BEGIN:VCALENDAR
VERSION:2.0
PRODID:-//ChamberMaster//Event Calendar 2.0//EN
METHOD:PUBLISH
X-PUBLISHED-TTL:P3D
REFRESH-INTERVAL:P3D
CALSCALE:GREGORIAN
BEGIN:VEVENT
DTSTART:20240805T220000Z
DTEND:20240806T000000Z
X-MICROSOFT-CDO-ALLDAYEVENT:FALSE
SUMMARY:Heritage Center Fundraiser
DESCRIPTION:Heritage Community Center Meatball Dinner Fundraiser.
X-ALT-DESC;FMTTYPE=text/html:Heritage Community Center Meatball Dinner Fundraiser.
LOCATION:Heritage Community Center - TRF
UID:e.2546.16656
SEQUENCE:3
DTSTAMP:20260422T141620Z
URL:https://business.trfchamber.com/events/details/heritage-center-fundraiser-08-05-2024-16656
END:VEVENT

END:VCALENDAR
